BEGIN:VCALENDAR
VERSION:2.0
PRODID:-//I.E.S. Santa Catalina - ECPv6.13.2.1//NONSGML v1.0//EN
CALSCALE:GREGORIAN
METHOD:PUBLISH
X-ORIGINAL-URL:https://iessantacatalinajaen.es
X-WR-CALDESC:Eventos para I.E.S. Santa Catalina
REFRESH-INTERVAL;VALUE=DURATION:PT1H
X-Robots-Tag:noindex
X-PUBLISHED-TTL:PT1H
BEGIN:VTIMEZONE
TZID:UTC
BEGIN:STANDARD
TZOFFSETFROM:+0000
TZOFFSETTO:+0000
TZNAME:UTC
DTSTART:20210101T000000
END:STANDARD
END:VTIMEZONE
BEGIN:VEVENT
DTSTART;VALUE=DATE:20210126
DTEND;VALUE=DATE:20210127
DTSTAMP:20260423T024241
CREATED:20210125T105054Z
LAST-MODIFIED:20210125T105054Z
UID:8550-1611619200-1611705599@iessantacatalinajaen.es
SUMMARY:TERTULIA LITERARIA “LA VIDA ENTERA”
DESCRIPTION:El próximo martes 26 de enero realizaremos  la primera tertulia literaria coeducativa dirigida a nuestro alumnado de Ciclos Formativos de Grado Superior\, en concreto Integración Social y Mediación Comunicativa\, a sus allegados y a todo el profesorado que quiera participar. \nTenemos el placer de contar con Julián Quintanilla dramaturgo extremeño\, director de cine y escritor de “La Vida Entera” libro que vamos a tratar en esta tertulia. Es autor también del mediometraje “El Mundo Entero” basado en este libro y protagonizado por la actriz Loles León\, corto que fué candidato a los premios Óscar y Goya y que ha recibido múltiples premios desde su creación.  \nEstamos muy ilusionados/as y estamos seguros que aprenderemos mucho de esta experiencia. \nDesde aquí agradecer de corazón la amabilidad\, generosidad y disposición de Julián Quintanilla
URL:https://iessantacatalinajaen.es/evento/tertulia-literaria-la-vida-entera/
END:VEVENT
END:VCALENDAR